BEGIN:VCALENDAR
VERSION:2.0
PRODID:-//US Taekwondo Academy - ECPv6.15.12.2//NONSGML v1.0//EN
CALSCALE:GREGORIAN
METHOD:PUBLISH
X-ORIGINAL-URL:https://ustacademy.com
X-WR-CALDESC:Events for US Taekwondo Academy
REFRESH-INTERVAL;VALUE=DURATION:PT1H
X-Robots-Tag:noindex
X-PUBLISHED-TTL:PT1H
BEGIN:VTIMEZONE
TZID:UTC
BEGIN:STANDARD
TZOFFSETFROM:+0000
TZOFFSETTO:+0000
TZNAME:UTC
DTSTART:20240101T000000
END:STANDARD
END:VTIMEZONE
BEGIN:VEVENT
DTSTART;TZID=UTC:20250215T100000
DTEND;TZID=UTC:20250215T110000
DTSTAMP:20260425T152211
CREATED:20190818T070326Z
LAST-MODIFIED:20241204T054832Z
UID:13657-1739613600-1739617200@ustacademy.com
SUMMARY:SWAT Meeting
DESCRIPTION:All SWAT/ STORM members must attend session with their full Red or Blue Uniform
URL:https://ustacademy.com/event/swat-meeting-11/
END:VEVENT
END:VCALENDAR