BEGIN:VCALENDAR
VERSION:2.0
PRODID:-//US Taekwondo Academy - ECPv6.15.12.2//NONSGML v1.0//EN
CALSCALE:GREGORIAN
METHOD:PUBLISH
X-WR-CALNAME:US Taekwondo Academy
X-ORIGINAL-URL:https://ustacademy.com
X-WR-CALDESC:Events for US Taekwondo Academy
REFRESH-INTERVAL;VALUE=DURATION:PT1H
X-Robots-Tag:noindex
X-PUBLISHED-TTL:PT1H
BEGIN:VTIMEZONE
TZID:UTC
BEGIN:STANDARD
TZOFFSETFROM:+0000
TZOFFSETTO:+0000
TZNAME:UTC
DTSTART:20240101T000000
END:STANDARD
END:VTIMEZONE
BEGIN:VEVENT
DTSTART;VALUE=DATE:20250317
DTEND;VALUE=DATE:20250318
DTSTAMP:20260425T130859
CREATED:20190818T064921Z
LAST-MODIFIED:20241204T055802Z
UID:13639-1742169600-1742255999@ustacademy.com
SUMMARY:Deadline for Promotion Test Form
DESCRIPTION:Today is The Deadline for Promotion Test Form (Additional $10 after this day)
URL:https://ustacademy.com/event/return-test-form-deadline-2/
END:VEVENT
BEGIN:VEVENT
DTSTART;VALUE=DATE:20250317
DTEND;VALUE=DATE:20250318
DTSTAMP:20260425T130859
CREATED:20190818T072417Z
LAST-MODIFIED:20241204T064453Z
UID:13675-1742169600-1742255999@ustacademy.com
SUMMARY:Return Spring Camp Form Deadline
DESCRIPTION:Make sure to turn in you spring camp registration form before this date! (Additional $30 after this date) \n \nClick her to download and submit form \nSpring break Camp \n 
URL:https://ustacademy.com/event/return-spring-camp-form-deadline/
END:VEVENT
END:VCALENDAR