BEGIN:VCALENDAR
VERSION:2.0
PRODID:-//US Taekwondo Academy - ECPv6.15.12.2//NONSGML v1.0//EN
CALSCALE:GREGORIAN
METHOD:PUBLISH
X-WR-CALNAME:US Taekwondo Academy
X-ORIGINAL-URL:https://ustacademy.com
X-WR-CALDESC:Events for US Taekwondo Academy
REFRESH-INTERVAL;VALUE=DURATION:PT1H
X-Robots-Tag:noindex
X-PUBLISHED-TTL:PT1H
BEGIN:VTIMEZONE
TZID:UTC
BEGIN:STANDARD
TZOFFSETFROM:+0000
TZOFFSETTO:+0000
TZNAME:UTC
DTSTART:20240101T000000
END:STANDARD
END:VTIMEZONE
BEGIN:VEVENT
DTSTART;TZID=UTC:20250421T080000
DTEND;TZID=UTC:20250421T170000
DTSTAMP:20260425T113810
CREATED:20250321T055318Z
LAST-MODIFIED:20250330T070242Z
UID:23855-1745222400-1745254800@ustacademy.com
SUMMARY:The Power of Poomsae
DESCRIPTION:Limited Space\, Register Now!!! \nRegistration is open until Monday May 5th. Reserve your spot now!\nPlease read registration rules to make sure you qualify!\nCall school if you have any question.\nUSTA  Allen 4696320828 \nUSTA Richardson 9722387073 \n \nAllenPoster \nPoomsaeReg
URL:https://ustacademy.com/event/the-power-of-poomsae/
END:VEVENT
END:VCALENDAR