BEGIN:VCALENDAR
VERSION:2.0
PRODID:-//US Taekwondo Academy - ECPv6.15.12.2//NONSGML v1.0//EN
CALSCALE:GREGORIAN
METHOD:PUBLISH
X-WR-CALNAME:US Taekwondo Academy
X-ORIGINAL-URL:https://ustacademy.com
X-WR-CALDESC:Events for US Taekwondo Academy
REFRESH-INTERVAL;VALUE=DURATION:PT1H
X-Robots-Tag:noindex
X-PUBLISHED-TTL:PT1H
BEGIN:VTIMEZONE
TZID:UTC
BEGIN:STANDARD
TZOFFSETFROM:+0000
TZOFFSETTO:+0000
TZNAME:UTC
DTSTART:20240101T000000
END:STANDARD
END:VTIMEZONE
BEGIN:VEVENT
DTSTART;VALUE=DATE:20251217
DTEND;VALUE=DATE:20260105
DTSTAMP:20260424T195423
CREATED:20190818T063011Z
LAST-MODIFIED:20260316T052848Z
UID:13612-1765929600-1767571199@ustacademy.com
SUMMARY:School Closed
DESCRIPTION:End of Year Holiday \nWe Will Resume Classes On Monday Jan. 5th. 2026
URL:https://ustacademy.com/event/school-closed-2/
END:VEVENT
END:VCALENDAR