BEGIN:VCALENDAR
VERSION:2.0
PRODID:-//US Taekwondo Academy - ECPv6.15.12.2//NONSGML v1.0//EN
CALSCALE:GREGORIAN
METHOD:PUBLISH
X-WR-CALNAME:US Taekwondo Academy
X-ORIGINAL-URL:https://ustacademy.com
X-WR-CALDESC:Events for US Taekwondo Academy
REFRESH-INTERVAL;VALUE=DURATION:PT1H
X-Robots-Tag:noindex
X-PUBLISHED-TTL:PT1H
BEGIN:VTIMEZONE
TZID:UTC
BEGIN:STANDARD
TZOFFSETFROM:+0000
TZOFFSETTO:+0000
TZNAME:UTC
DTSTART:20250101T000000
END:STANDARD
END:VTIMEZONE
BEGIN:VEVENT
DTSTART;VALUE=DATE:20260124
DTEND;VALUE=DATE:20260125
DTSTAMP:20260424T193555
CREATED:20190818T062555Z
LAST-MODIFIED:20260124T044050Z
UID:13610-1769212800-1769299199@ustacademy.com
SUMMARY:School Closed
DESCRIPTION:Alert – Due to inclement weather and for the safety of our students\, parents and staff. USTA will be closed Tomorrow Sat Jan. 24th. \nWe are planning on resuming classes  on Mon.  Jan. 26th if weather permits. We will monitor the weather and keep you posted for further updates. Please be sure to check your email and visit our website at Upcoming Events – USTA (ustacademy.com)
URL:https://ustacademy.com/event/school-closed/
END:VEVENT
END:VCALENDAR