BEGIN:VCALENDAR
VERSION:2.0
PRODID:-//US Taekwondo Academy - ECPv6.15.12.2//NONSGML v1.0//EN
CALSCALE:GREGORIAN
METHOD:PUBLISH
X-WR-CALNAME:US Taekwondo Academy
X-ORIGINAL-URL:https://ustacademy.com
X-WR-CALDESC:Events for US Taekwondo Academy
REFRESH-INTERVAL;VALUE=DURATION:PT1H
X-Robots-Tag:noindex
X-PUBLISHED-TTL:PT1H
BEGIN:VTIMEZONE
TZID:UTC
BEGIN:STANDARD
TZOFFSETFROM:+0000
TZOFFSETTO:+0000
TZNAME:UTC
DTSTART:20250101T000000
END:STANDARD
END:VTIMEZONE
BEGIN:VEVENT
DTSTART;TZID=UTC:20260226T183000
DTEND;TZID=UTC:20260226T193000
DTSTAMP:20260424T155841
CREATED:20190818T065530Z
LAST-MODIFIED:20251204T233630Z
UID:13649-1772130600-1772134200@ustacademy.com
SUMMARY:Belt Testing & Graduation
DESCRIPTION:Starting at 6:30pm \nMake sure to have your full uniform clean and ready. \nMake sure to bring your Headgear and a stick (Only for yellow belt and higher) \nMake sure to arrive 15 minutes prior to testing. \nLate arrivals will not be allowed to join the event and they will be delayed until the next one.
URL:https://ustacademy.com/event/belt-graduation-6/
END:VEVENT
END:VCALENDAR