BEGIN:VCALENDAR
VERSION:2.0
PRODID:-//US Taekwondo Academy - ECPv6.15.12.2//NONSGML v1.0//EN
CALSCALE:GREGORIAN
METHOD:PUBLISH
X-ORIGINAL-URL:https://ustacademy.com
X-WR-CALDESC:Events for US Taekwondo Academy
REFRESH-INTERVAL;VALUE=DURATION:PT1H
X-Robots-Tag:noindex
X-PUBLISHED-TTL:PT1H
BEGIN:VTIMEZONE
TZID:UTC
BEGIN:STANDARD
TZOFFSETFROM:+0000
TZOFFSETTO:+0000
TZNAME:UTC
DTSTART:20250101T000000
END:STANDARD
END:VTIMEZONE
BEGIN:VEVENT
DTSTART;VALUE=DATE:20260401
DTEND;VALUE=DATE:20260410
DTSTAMP:20260424T134713
CREATED:20190818T063709Z
LAST-MODIFIED:20251205T001953Z
UID:13622-1775001600-1775779199@ustacademy.com
SUMMARY:Tip Week
DESCRIPTION:Make sure to have enough classes\, perfect your form and self defense to receive a tip!
URL:https://ustacademy.com/event/tip-week-8/
END:VEVENT
BEGIN:VEVENT
DTSTART;VALUE=DATE:20260409
DTEND;VALUE=DATE:20260412
DTSTAMP:20260424T134713
CREATED:20190818T072158Z
LAST-MODIFIED:20260122T233611Z
UID:13671-1775692800-1775951999@ustacademy.com
SUMMARY:Spring Camp
DESCRIPTION:United States Taekwondo Academy’ Spring break camp will provide you and your child with the chance to polish your skills\, develop character\, learn valuable life skills\, make new friends and discover new interests. USTA Spring Camp is a comprehensive and objective program designed to help you and your child to become a better person. \nSchool will be CLOSED for regular students\, Open Only for the Spring Camp! \n \nClick the link below to download application \nSpring camp 2024
URL:https://ustacademy.com/event/spring-camp/
END:VEVENT
END:VCALENDAR