BEGIN:VCALENDAR
VERSION:2.0
PRODID:-//US Taekwondo Academy - ECPv6.15.12.2//NONSGML v1.0//EN
CALSCALE:GREGORIAN
METHOD:PUBLISH
X-WR-CALNAME:US Taekwondo Academy
X-ORIGINAL-URL:https://ustacademy.com
X-WR-CALDESC:Events for US Taekwondo Academy
REFRESH-INTERVAL;VALUE=DURATION:PT1H
X-Robots-Tag:noindex
X-PUBLISHED-TTL:PT1H
BEGIN:VTIMEZONE
TZID:UTC
BEGIN:STANDARD
TZOFFSETFROM:+0000
TZOFFSETTO:+0000
TZNAME:UTC
DTSTART:20250101T000000
END:STANDARD
END:VTIMEZONE
BEGIN:VEVENT
DTSTART;VALUE=DATE:20260501
DTEND;VALUE=DATE:20260510
DTSTAMP:20260424T134421
CREATED:20190818T063748Z
LAST-MODIFIED:20251205T002827Z
UID:13624-1777593600-1778371199@ustacademy.com
SUMMARY:Tip Week
DESCRIPTION:Make sure to have enough classes\, perfect your form and self defense to receive a tip!
URL:https://ustacademy.com/event/tip-week-9/
END:VEVENT
BEGIN:VEVENT
DTSTART;TZID=UTC:20260502T100000
DTEND;TZID=UTC:20260502T110000
DTSTAMP:20260424T134421
CREATED:20190818T070913Z
LAST-MODIFIED:20251205T002911Z
UID:13667-1777716000-1777719600@ustacademy.com
SUMMARY:SWAT Meeting
DESCRIPTION:All SWAT/ STORM members must attend session with their full Red or Blue Uniform
URL:https://ustacademy.com/event/swat-meeting-16/
END:VEVENT
END:VCALENDAR