BEGIN:VCALENDAR
VERSION:2.0
PRODID:-//US Taekwondo Academy - ECPv6.15.12.2//NONSGML v1.0//EN
CALSCALE:GREGORIAN
METHOD:PUBLISH
X-ORIGINAL-URL:https://ustacademy.com
X-WR-CALDESC:Events for US Taekwondo Academy
REFRESH-INTERVAL;VALUE=DURATION:PT1H
X-Robots-Tag:noindex
X-PUBLISHED-TTL:PT1H
BEGIN:VTIMEZONE
TZID:UTC
BEGIN:STANDARD
TZOFFSETFROM:+0000
TZOFFSETTO:+0000
TZNAME:UTC
DTSTART:20250101T000000
END:STANDARD
END:VTIMEZONE
BEGIN:VEVENT
DTSTART;TZID=UTC:20260516T083000
DTEND;TZID=UTC:20260516T130000
DTSTAMP:20260424T160004
CREATED:20260419T071942Z
LAST-MODIFIED:20260419T071951Z
UID:25552-1778920200-1778936400@ustacademy.com
SUMMARY:USTA Tournament
DESCRIPTION:Tournament file 2026
URL:https://ustacademy.com/event/usta-tournament/
END:VEVENT
BEGIN:VEVENT
DTSTART;TZID=UTC:20260516T100000
DTEND;TZID=UTC:20260516T110000
DTSTAMP:20260424T160004
CREATED:20190818T070947Z
LAST-MODIFIED:20251205T003008Z
UID:13669-1778925600-1778929200@ustacademy.com
SUMMARY:SWAT Meeting
DESCRIPTION:All SWAT/ STORM members must attend session with their full Red or Blue Uniform
URL:https://ustacademy.com/event/swat-meeting-17/
END:VEVENT
END:VCALENDAR