BEGIN:VCALENDAR
VERSION:2.0
PRODID:-//US Taekwondo Academy - ECPv6.15.12.2//NONSGML v1.0//EN
CALSCALE:GREGORIAN
METHOD:PUBLISH
X-WR-CALNAME:US Taekwondo Academy
X-ORIGINAL-URL:https://ustacademy.com
X-WR-CALDESC:Events for US Taekwondo Academy
REFRESH-INTERVAL;VALUE=DURATION:PT1H
X-Robots-Tag:noindex
X-PUBLISHED-TTL:PT1H
BEGIN:VTIMEZONE
TZID:UTC
BEGIN:STANDARD
TZOFFSETFROM:+0000
TZOFFSETTO:+0000
TZNAME:UTC
DTSTART:20250101T000000
END:STANDARD
END:VTIMEZONE
BEGIN:VEVENT
DTSTART;VALUE=DATE:20261102
DTEND;VALUE=DATE:20261108
DTSTAMP:20260425T022441
CREATED:20190818T063604Z
LAST-MODIFIED:20251216T010911Z
UID:13620-1793577600-1794095999@ustacademy.com
SUMMARY:Tip Week
DESCRIPTION:Make sure to have enough classes\, perfect your form and self defense to receive a tip!
URL:https://ustacademy.com/event/tip-week-7/
END:VEVENT
BEGIN:VEVENT
DTSTART;VALUE=DATE:20261103
DTEND;VALUE=DATE:20261108
DTSTAMP:20260425T022441
CREATED:20190818T062003Z
LAST-MODIFIED:20251205T053201Z
UID:13606-1793664000-1794095999@ustacademy.com
SUMMARY:Holiday Sale!
DESCRIPTION:Finish your holiday shopping early at U.S.TKD Academy.\nDo All Your Holiday Shopping Right Here! Buy your Sparring Gears Now! We will be offering Special Prices for these days ONLY. *Only parents\, grandparents and adults\, no children allowed* You can purchase any gifts without those “peeking eyes”. This is a great opportunity to purchase what your child REALLY WANTS and NEEDS! Discounted Items will be sent out few days before the sale day. \nPay with Check\, Cash or Credit Card please. \nHoliday sale sheet 2025
URL:https://ustacademy.com/event/holiday-sale/
END:VEVENT
END:VCALENDAR