BEGIN:VCALENDAR
VERSION:2.0
PRODID:-//US Taekwondo Academy - ECPv6.15.12.2//NONSGML v1.0//EN
CALSCALE:GREGORIAN
METHOD:PUBLISH
X-WR-CALNAME:US Taekwondo Academy
X-ORIGINAL-URL:https://ustacademy.com
X-WR-CALDESC:Events for US Taekwondo Academy
REFRESH-INTERVAL;VALUE=DURATION:PT1H
X-Robots-Tag:noindex
X-PUBLISHED-TTL:PT1H
BEGIN:VTIMEZONE
TZID:UTC
BEGIN:STANDARD
TZOFFSETFROM:+0000
TZOFFSETTO:+0000
TZNAME:UTC
DTSTART:20250101T000000
END:STANDARD
END:VTIMEZONE
BEGIN:VEVENT
DTSTART;TZID=UTC:20261219T100000
DTEND;TZID=UTC:20261219T110000
DTSTAMP:20260425T040736
CREATED:20190818T070641Z
LAST-MODIFIED:20251216T010736Z
UID:13661-1797674400-1797678000@ustacademy.com
SUMMARY:SWAT Meeting
DESCRIPTION:All SWAT/ STORM members must attend session with their full Red or Blue Uniform
URL:https://ustacademy.com/event/swat-meeting-13/
END:VEVENT
END:VCALENDAR