BEGIN:VCALENDAR
VERSION:2.0
PRODID:-//US Taekwondo Academy - ECPv6.15.12.2//NONSGML v1.0//EN
CALSCALE:GREGORIAN
METHOD:PUBLISH
X-WR-CALNAME:US Taekwondo Academy
X-ORIGINAL-URL:https://ustacademy.com
X-WR-CALDESC:Events for US Taekwondo Academy
REFRESH-INTERVAL;VALUE=DURATION:PT1H
X-Robots-Tag:noindex
X-PUBLISHED-TTL:PT1H
BEGIN:VTIMEZONE
TZID:UTC
BEGIN:STANDARD
TZOFFSETFROM:+0000
TZOFFSETTO:+0000
TZNAME:UTC
DTSTART:20230101T000000
END:STANDARD
END:VTIMEZONE
BEGIN:VEVENT
DTSTART;VALUE=DATE:20241201
DTEND;VALUE=DATE:20241210
DTSTAMP:20260425T171201
CREATED:20190818T054354Z
LAST-MODIFIED:20231204T063453Z
UID:13586-1733011200-1733788799@ustacademy.com
SUMMARY:Tip Week
DESCRIPTION:Make sure to have enough classes\, perfect your form and self defense to receive a tip
URL:https://ustacademy.com/event/tip-week-3/
END:VEVENT
BEGIN:VEVENT
DTSTART;TZID=UTC:20241219T183000
DTEND;TZID=UTC:20241219T193000
DTSTAMP:20260425T171201
CREATED:20191107T065328Z
LAST-MODIFIED:20231204T064048Z
UID:15670-1734633000-1734636600@ustacademy.com
SUMMARY:Belt Promotion
DESCRIPTION:Make sure to have your full uniform clean and ready. Make sure to bring your Headgear and a stick (Only for yellow belt and higher) Make sure to arrive 15 minutes prior to testing. Late arrivals will not be allowed to join the event and they will be delayed until the next one.
URL:https://ustacademy.com/event/belt-testing-16/
END:VEVENT
END:VCALENDAR