BEGIN:VCALENDAR
VERSION:2.0
PRODID:-//US Taekwondo Academy - ECPv6.15.12.2//NONSGML v1.0//EN
CALSCALE:GREGORIAN
METHOD:PUBLISH
X-WR-CALNAME:US Taekwondo Academy
X-ORIGINAL-URL:https://ustacademy.com
X-WR-CALDESC:Events for US Taekwondo Academy
REFRESH-INTERVAL;VALUE=DURATION:PT1H
X-Robots-Tag:noindex
X-PUBLISHED-TTL:PT1H
BEGIN:VTIMEZONE
TZID:UTC
BEGIN:STANDARD
TZOFFSETFROM:+0000
TZOFFSETTO:+0000
TZNAME:UTC
DTSTART:20250101T000000
END:STANDARD
END:VTIMEZONE
BEGIN:VEVENT
DTSTART;VALUE=DATE:20260302
DTEND;VALUE=DATE:20260308
DTSTAMP:20260424T140053
CREATED:20190818T054511Z
LAST-MODIFIED:20251204T235212Z
UID:13588-1772409600-1772927999@ustacademy.com
SUMMARY:Tip Week
DESCRIPTION:Make sure to have enough classes\, perfect your form and self defense to receive a tip!
URL:https://ustacademy.com/event/tip-week-4/
END:VEVENT
BEGIN:VEVENT
DTSTART;TZID=UTC:20260307T100000
DTEND;TZID=UTC:20260307T110000
DTSTAMP:20260424T140053
CREATED:20190924T032648Z
LAST-MODIFIED:20251204T235342Z
UID:14465-1772877600-1772881200@ustacademy.com
SUMMARY:SWAT Meeting
DESCRIPTION:All SWAT/ STORM members must attend session with their full Red or Blue Uniform
URL:https://ustacademy.com/event/swat-meeting-18/
END:VEVENT
BEGIN:VEVENT
DTSTART;VALUE=DATE:20260316
DTEND;VALUE=DATE:20260317
DTSTAMP:20260424T140053
CREATED:20191107T064709Z
LAST-MODIFIED:20251204T235552Z
UID:15660-1773619200-1773705599@ustacademy.com
SUMMARY:Deadline To Return Promotion Form
DESCRIPTION:Today is The Deadline To Return Promotion Form (Additional $10 after this day)
URL:https://ustacademy.com/event/return-test-form-deadline-11/
END:VEVENT
BEGIN:VEVENT
DTSTART;VALUE=DATE:20260320
DTEND;VALUE=DATE:20260321
DTSTAMP:20260424T140053
CREATED:20190814T152920Z
LAST-MODIFIED:20260316T053105Z
UID:13510-1773964800-1774051199@ustacademy.com
SUMMARY:School Closed/ Eid Al-Fitr
DESCRIPTION:We would like to inform you that our business will be closed on Friday March 20th\, 2026 in observance of Eid al-Fitr. This day marks the end of Ramadan\, the Islamic holy month of fasting\, and is an important religious holiday celebrated by 2 billion Muslims around the world. \nDuring Eid al-Fitr\, Muslims attend special prayers\, exchange gifts\, and share meals with family and friends. It is also a time for charitable giving\, forgiveness\, and community solidarity\, and the holiday serves as a reminder of the importance of spiritual reflection\, personal growth\, and personal development that occurred during Ramadan. \nWe apologize for any inconvenience this may cause and encourage you to plan accordingly. \nWe hope that everyone celebrating Eid al-Fitr has a joyous\, blessed & meaningful holiday. \nWe will resume normal business hours on Sat. March 21st. 2026\, and look forward to serving you then. Thank you for your understanding and continued support. \nSincerely\, \nGrand Masters\, Master Instructors\, Instructors & SWAT \nUnited States Taekwondo Academy \n 
URL:https://ustacademy.com/event/school-closed-eid-al-fitr/
END:VEVENT
BEGIN:VEVENT
DTSTART;TZID=UTC:20260321T100000
DTEND;TZID=UTC:20260321T110000
DTSTAMP:20260424T140053
CREATED:20190818T053641Z
LAST-MODIFIED:20251204T235444Z
UID:13575-1774087200-1774090800@ustacademy.com
SUMMARY:SWAT Meeting
DESCRIPTION:All SWAT/ STORM members must attend training session in their full Red or Blue Uniform
URL:https://ustacademy.com/event/swat-meeting-6/
END:VEVENT
BEGIN:VEVENT
DTSTART;TZID=UTC:20260326T183000
DTEND;TZID=UTC:20260326T193000
DTSTAMP:20260424T140053
CREATED:20190818T053848Z
LAST-MODIFIED:20251204T235733Z
UID:13579-1774549800-1774553400@ustacademy.com
SUMMARY:Belt Promotion
DESCRIPTION:Starting at 6:30pm \nMake sure to have your full uniform clean and ready. \nMake sure to bring your Headgear and a stick (Only for yellow belt and higher) \nMake sure to arrive 15 minutes prior to testing. \nLate arrivals will not be allowed to join the event and they will be delayed until the next one.
URL:https://ustacademy.com/event/swat-meeting-8/
END:VEVENT
END:VCALENDAR