BEGIN:VCALENDAR
VERSION:2.0
PRODID:-//US Taekwondo Academy - ECPv6.15.12.2//NONSGML v1.0//EN
CALSCALE:GREGORIAN
METHOD:PUBLISH
X-ORIGINAL-URL:https://ustacademy.com
X-WR-CALDESC:Events for US Taekwondo Academy
REFRESH-INTERVAL;VALUE=DURATION:PT1H
X-Robots-Tag:noindex
X-PUBLISHED-TTL:PT1H
BEGIN:VTIMEZONE
TZID:UTC
BEGIN:STANDARD
TZOFFSETFROM:+0000
TZOFFSETTO:+0000
TZNAME:UTC
DTSTART:20250101T000000
END:STANDARD
END:VTIMEZONE
BEGIN:VEVENT
DTSTART;VALUE=DATE:20260701
DTEND;VALUE=DATE:20260711
DTSTAMP:20260424T172537
CREATED:20190924T034227Z
LAST-MODIFIED:20251205T010657Z
UID:14486-1782864000-1783727999@ustacademy.com
SUMMARY:Tip Week
DESCRIPTION:Make sure to have enough classes\, perfect your form and self defense to receive a tip!
URL:https://ustacademy.com/event/tip-week-11/
END:VEVENT
BEGIN:VEVENT
DTSTART;VALUE=DATE:20260703
DTEND;VALUE=DATE:20260705
DTSTAMP:20260424T172537
CREATED:20191107T053834Z
LAST-MODIFIED:20251205T011327Z
UID:15645-1783036800-1783209599@ustacademy.com
SUMMARY:School Closed Independence Day
DESCRIPTION:School Closed \n 
URL:https://ustacademy.com/event/school-closed-5/
END:VEVENT
BEGIN:VEVENT
DTSTART;TZID=UTC:20260718T100000
DTEND;TZID=UTC:20260718T110000
DTSTAMP:20260424T172537
CREATED:20190927T034413Z
LAST-MODIFIED:20251205T013204Z
UID:14570-1784368800-1784372400@ustacademy.com
SUMMARY:SWAT Meeting
DESCRIPTION:All SWAT/ STORM members must attend training session in their full Red or Blue Uniform
URL:https://ustacademy.com/event/swat-meeting-21/
END:VEVENT
BEGIN:VEVENT
DTSTART;VALUE=DATE:20260720
DTEND;VALUE=DATE:20260721
DTSTAMP:20260424T172537
CREATED:20190924T034619Z
LAST-MODIFIED:20251205T013306Z
UID:14494-1784505600-1784591999@ustacademy.com
SUMMARY:Deadline To Return Promotion Form
DESCRIPTION:Today is The Deadline To Return Promotion Form (Additional $10 after this day)
URL:https://ustacademy.com/event/return-test-form-deadline-6/
END:VEVENT
BEGIN:VEVENT
DTSTART;TZID=UTC:20260730T183000
DTEND;TZID=UTC:20260730T193000
DTSTAMP:20260424T172537
CREATED:20190924T033420Z
LAST-MODIFIED:20251205T013351Z
UID:14476-1785436200-1785439800@ustacademy.com
SUMMARY:Belt Promotion
DESCRIPTION:Make sure to have your full uniform clean and ready. \nMake sure to bring your Headgear and a stick (Only for yellow belt and higher) \nMake sure to arrive 15 minutes prior to testing. \nLate arrivals will not be allowed to join the event and they will be delayed until the next one.
URL:https://ustacademy.com/event/belt-graduation-10/
END:VEVENT
END:VCALENDAR