BEGIN:VCALENDAR
VERSION:2.0
PRODID:-//US Taekwondo Academy - ECPv6.15.12.2//NONSGML v1.0//EN
CALSCALE:GREGORIAN
METHOD:PUBLISH
X-ORIGINAL-URL:https://ustacademy.com
X-WR-CALDESC:Events for US Taekwondo Academy
REFRESH-INTERVAL;VALUE=DURATION:PT1H
X-Robots-Tag:noindex
X-PUBLISHED-TTL:PT1H
BEGIN:VTIMEZONE
TZID:UTC
BEGIN:STANDARD
TZOFFSETFROM:+0000
TZOFFSETTO:+0000
TZNAME:UTC
DTSTART:20250101T000000
END:STANDARD
END:VTIMEZONE
BEGIN:VEVENT
DTSTART;VALUE=DATE:20260801
DTEND;VALUE=DATE:20260809
DTSTAMP:20260424T191956
CREATED:20190924T034305Z
LAST-MODIFIED:20251205T043127Z
UID:14488-1785542400-1786233599@ustacademy.com
SUMMARY:Tip  Week
DESCRIPTION:Make sure to have enough classes\, perfect your form and self defense to receive a tip!
URL:https://ustacademy.com/event/tip-week-12/
END:VEVENT
BEGIN:VEVENT
DTSTART;TZID=UTC:20260801T100000
DTEND;TZID=UTC:20260801T110000
DTSTAMP:20260424T191956
CREATED:20190927T034600Z
LAST-MODIFIED:20251205T043242Z
UID:14572-1785578400-1785582000@ustacademy.com
SUMMARY:SWAT Meeting
DESCRIPTION:All SWAT/ STORM members must attend training session in their full Red or Blue Uniform
URL:https://ustacademy.com/event/swat-meeting-22/
END:VEVENT
BEGIN:VEVENT
DTSTART;TZID=UTC:20260815T100000
DTEND;TZID=UTC:20260815T110000
DTSTAMP:20260424T191956
CREATED:20190818T053247Z
LAST-MODIFIED:20251205T043333Z
UID:13569-1786788000-1786791600@ustacademy.com
SUMMARY:SWAT Meeting
DESCRIPTION:All SWAT/ STORM members must attend training session in their full Red or Blue Uniform
URL:https://ustacademy.com/event/swat-meeting-3/
END:VEVENT
BEGIN:VEVENT
DTSTART;VALUE=DATE:20260817
DTEND;VALUE=DATE:20260818
DTSTAMP:20260424T191956
CREATED:20190924T034822Z
LAST-MODIFIED:20251205T043448Z
UID:14496-1786924800-1787011199@ustacademy.com
SUMMARY:Deadline To Return Promotion Form
DESCRIPTION:Today is The Deadline To Return Promotion Form (Additional $10 after this day)
URL:https://ustacademy.com/event/return-test-form-deadline-7/
END:VEVENT
BEGIN:VEVENT
DTSTART;VALUE=DATE:20260817
DTEND;VALUE=DATE:20260818
DTSTAMP:20260424T191956
CREATED:20191107T070647Z
LAST-MODIFIED:20251205T045338Z
UID:15682-1786924800-1787011199@ustacademy.com
SUMMARY:Return Summer Camp Form Deadline
DESCRIPTION:Click Link to download application \n2025-Summer-Camp \nDownload This Application and submit Summer camp 2025 \nMake sure to turn in your Summer Camp registration form before this date! (Additional $30 after this date)
URL:https://ustacademy.com/event/return-summer-camp-form-deadline/
END:VEVENT
BEGIN:VEVENT
DTSTART;VALUE=DATE:20260820
DTEND;VALUE=DATE:20260823
DTSTAMP:20260424T191956
CREATED:20191107T070818Z
LAST-MODIFIED:20251205T045515Z
UID:15684-1787184000-1787443199@ustacademy.com
SUMMARY:Summer Camp
DESCRIPTION:United States Taekwondo Academy’ Summer camp will provide you and your child with the chance to polish your skills\, develop character\, learn valuable life skills\, make new friends and discover new interests. USTA Summer Camp is a comprehensive and objective program designed to help you and your child to become a better person.\nSchool will be CLOSED for regular students\, Open Only for the Summer Camp! \n \nClick the link below to download application \n2025-Summer-Camp \nClick below link to download application\, Enroll Now!!! \nSummer camp 2025
URL:https://ustacademy.com/event/summer-camp/
END:VEVENT
BEGIN:VEVENT
DTSTART;TZID=UTC:20260827T183000
DTEND;TZID=UTC:20260827T193000
DTSTAMP:20260424T191956
CREATED:20190924T034504Z
LAST-MODIFIED:20251205T043828Z
UID:14492-1787855400-1787859000@ustacademy.com
SUMMARY:Belt Promotion
DESCRIPTION:Make sure to have your full uniform clean and ready.\nMake sure to bring your Headgear and a stick (Only for yellow belt and higher)\nMake sure to arrive 15 minutes prior to testing.\nLate arrivals will not be allowed to join the event and they will be delayed until the next one.
URL:https://ustacademy.com/event/belt-testing-13/
END:VEVENT
END:VCALENDAR