BEGIN:VCALENDAR
VERSION:2.0
PRODID:-//US Taekwondo Academy - ECPv6.15.12.2//NONSGML v1.0//EN
CALSCALE:GREGORIAN
METHOD:PUBLISH
X-WR-CALNAME:US Taekwondo Academy
X-ORIGINAL-URL:https://ustacademy.com
X-WR-CALDESC:Events for US Taekwondo Academy
REFRESH-INTERVAL;VALUE=DURATION:PT1H
X-Robots-Tag:noindex
X-PUBLISHED-TTL:PT1H
BEGIN:VTIMEZONE
TZID:UTC
BEGIN:STANDARD
TZOFFSETFROM:+0000
TZOFFSETTO:+0000
TZNAME:UTC
DTSTART:20250101T000000
END:STANDARD
END:VTIMEZONE
BEGIN:VEVENT
DTSTART;VALUE=DATE:20261201
DTEND;VALUE=DATE:20261209
DTSTAMP:20260425T024427
CREATED:20190818T063514Z
LAST-MODIFIED:20251205T055317Z
UID:13618-1796083200-1796774399@ustacademy.com
SUMMARY:Tip Week
DESCRIPTION:Make sure to have enough classes\, perfect your form and self defense to receive a tip!
URL:https://ustacademy.com/event/tip-week-6/
END:VEVENT
BEGIN:VEVENT
DTSTART;TZID=UTC:20261205T100000
DTEND;TZID=UTC:20261205T110000
DTSTAMP:20260425T024427
CREATED:20190927T034842Z
LAST-MODIFIED:20251205T055841Z
UID:14578-1796464800-1796468400@ustacademy.com
SUMMARY:SWAT Meeting
DESCRIPTION:All SWAT/ STORM members must attend training session in their full Red or Blue Uniform
URL:https://ustacademy.com/event/swat-meeting-25/
END:VEVENT
BEGIN:VEVENT
DTSTART;VALUE=DATE:20261207
DTEND;VALUE=DATE:20261208
DTSTAMP:20260425T024427
CREATED:20191107T064501Z
LAST-MODIFIED:20251205T055531Z
UID:15656-1796601600-1796687999@ustacademy.com
SUMMARY:Return Test Form Deadline
DESCRIPTION:Today is The Deadline to Return your Test form (Additional $10 after this day)
URL:https://ustacademy.com/event/return-test-form-deadline-9/
END:VEVENT
BEGIN:VEVENT
DTSTART;TZID=UTC:20261217T183000
DTEND;TZID=UTC:20261217T193000
DTSTAMP:20260425T024427
CREATED:20191107T065104Z
LAST-MODIFIED:20251204T174610Z
UID:15666-1797532200-1797535800@ustacademy.com
SUMMARY:Belt Promotion
DESCRIPTION:Make sure to have your full TKD uniform clean and ready. Make sure to bring your Headgear and a stick (Only for yellow belt and higher) Make sure to arrive 15 minutes prior to testing. Late arrivals will not be allowed to join the event and they will be delayed until the next one.
URL:https://ustacademy.com/event/belt-testing-14/
END:VEVENT
BEGIN:VEVENT
DTSTART;TZID=UTC:20261219T100000
DTEND;TZID=UTC:20261219T110000
DTSTAMP:20260425T024427
CREATED:20190818T070641Z
LAST-MODIFIED:20251216T010736Z
UID:13661-1797674400-1797678000@ustacademy.com
SUMMARY:SWAT Meeting
DESCRIPTION:All SWAT/ STORM members must attend session with their full Red or Blue Uniform
URL:https://ustacademy.com/event/swat-meeting-13/
END:VEVENT
BEGIN:VEVENT
DTSTART;VALUE=DATE:20261221
DTEND;VALUE=DATE:20270103
DTSTAMP:20260425T024427
CREATED:20190818T070424Z
LAST-MODIFIED:20251204T175843Z
UID:13659-1797811200-1798934399@ustacademy.com
SUMMARY:USTA CLOSED
DESCRIPTION:We will Be CLOSED Dec. 22nd 2025 Until Jan. 3rd 2026 \nWill Resume classes On Jan. 5th 2026
URL:https://ustacademy.com/event/swat-meeting-12/
END:VEVENT
END:VCALENDAR